BEGIN:VCALENDAR
VERSION:2.0
PRODID:-//HostScore//Black Friday 2025 Curated Deals//EN
BEGIN:VEVENT
UID:hello@hostscore.net
DTSTAMP:20251101T120000Z
DTSTART:20251128T000000Z
DTEND:20251205T235900Z
SUMMARY:Black Friday Hosting Deals Curated by HostScore
DESCRIPTION:Explore the best Black Friday hosting deals, handpicked by HostScore.net
LOCATION:HostScore.net
END:VEVENT
END:VCALENDAR